BEGIN:VCALENDAR
VERSION:2.0
PRODID:-//Lycaeum Music - ECPv5.3.2.1//NONSGML v1.0//EN
CALSCALE:GREGORIAN
METHOD:PUBLISH
X-WR-CALNAME:Lycaeum Music
X-ORIGINAL-URL:https://lycaeum.co.uk
X-WR-CALDESC:Events for Lycaeum Music
BEGIN:VTIMEZONE
TZID:UTC
BEGIN:STANDARD
TZOFFSETFROM:+0000
TZOFFSETTO:+0000
TZNAME:UTC
DTSTART:20220101T000000
END:STANDARD
END:VTIMEZONE
BEGIN:VEVENT
DTSTART;TZID=UTC:20221204T100000
DTEND;TZID=UTC:20221204T110000
DTSTAMP:20260414T205717
CREATED:20220830T135248Z
LAST-MODIFIED:20220830T135248Z
UID:20775-1670148000-1670151600@lycaeum.co.uk
SUMMARY:ABRSM Mock Exam
DESCRIPTION:As featured on  and many more!\nThe best preparation for upcoming music exams\n\nMock exams held under the same conditions as official ABRSM exams\nOur tutors will grade students’ performance\, indicating any areas for improvement\nStudents gain valuable practice performing under exam conditions\n\nMusic exams can be a nerve-wracking experience\, and students rarely have the opportunity to play under the conditions in which they are held. Committed to helping students succeed\, Lycaeum’s offers ABRSM Mock Exams\, an ideal way of helping students feel less intimidated by the exam process. In addition to the practice\, students also benefit from tutor feedback\, helping them understand which aspects of their performance they could develop in order to attain their desired grade. \n(Lycaeum is committed to making music accessible to everyone. If the price of the event means your child would be unable to attend\, please contact us and we discuss a price reduction or a waiver). \nTicket prices and event time to be announced\nBook quickly: limited places per event!\n\n\n\n	\n		\n			\n			\n\n\n\n	\n		\n			\n			\n\n  \n                \n            				\n            \n'We also participated in the concert recently\, and it was such a delight! All the children seemed to really enjoy performing'\nYuri J\, London\n\n          \n          \n             \n                          \n          \n        \n  \n\n  \n  \n                \n            				\n            \n'This is great value for music learning\, as in addition to the private instrumental lessons you get lots of complimentary online courses and various events'\nKateryna S\, London\n\n          \n          \n             \n                          \n          \n        \n  \n\n  \n\nSee All Reviews on Google\n\n		\n			\n\n	\n\n\n		\n			\n\n	\n\n	\n		\n			\n			\n\n	\n		\n			\n			\n\n  \n                \n            				\n            \n'The concert was absolutely delightful - it was not just a recital but a whole spectacle for and with the audience'\nInna H\, London\n\n          \n          \n             \n                          \n          \n        \n  \n\n  \n  \n                \n            				\n            \n'The children absolutely loved their time learning about and playing instruments and the big red bus is just amazing!'\nYasmin M\, London\n\n          \n          \n             \n                          \n          \n        \n  \n\n  \n\nSee All Reviews on Facebook
URL:https://lycaeum.co.uk/event/abrsm-mock-exam-2/
CATEGORIES:ABRSM Mock Exams
ATTACH;FMTTYPE=image/jpeg:https://lycaeum.co.uk/wp-content/uploads/2022/01/pexels-mart-production-8471931-2-2-e1643375388275.jpg
ORGANIZER;CN="Lycaeum%20Music":MAILTO:info@lycaeum.co.uk
END:VEVENT
BEGIN:VEVENT
DTSTART;TZID=UTC:20221204T100000
DTEND;TZID=UTC:20221204T110000
DTSTAMP:20260414T205717
CREATED:20220901T083047Z
LAST-MODIFIED:20220901T083622Z
UID:20880-1670148000-1670151600@lycaeum.co.uk
SUMMARY:Lycaeum Winter Competition
DESCRIPTION:As featured on  and many more!\nTake part in a fun challenge!\n\nOur competitions are a great incentive for students learning an instrument!\nCompetitions take place online\, making them accessible to all\nPrizes for all students who take part\, with special prizes for exceptional performances\n\nEach learner’s journey is an individual one\, but a friendly competition can be a great incentive for students to push their learning further! Our student concerts are held online\, with student submitting video entries before the event takes place. Every student who takes part in the competition will receive recognition\, with the biggest prizes given to those who deliver stand-out performances. \nEvent time to be announced\nBook quickly: limited places per competition!\n\n\n\n	\n		\n			\n			\n\n\n\n	\n		\n			\n			\n\n  \n                \n            				\n            \n'We also participated in the concert recently\, and it was such a delight! All the children seemed to really enjoy performing'\nYuri J\, London\n\n          \n          \n             \n                          \n          \n        \n  \n\n  \n  \n                \n            				\n            \n'This is great value for music learning\, as in addition to the private instrumental lessons you get lots of complimentary online courses and various events'\nKateryna S\, London\n\n          \n          \n             \n                          \n          \n        \n  \n\n  \n\nSee All Reviews on Google\n\n		\n			\n\n	\n\n\n		\n			\n\n	\n\n	\n		\n			\n			\n\n	\n		\n			\n			\n\n  \n                \n            				\n            \n'The concert was absolutely delightful - it was not just a recital but a whole spectacle for and with the audience'\nInna H\, London\n\n          \n          \n             \n                          \n          \n        \n  \n\n  \n  \n                \n            				\n            \n'The children absolutely loved their time learning about and playing instruments and the big red bus is just amazing!'\nYasmin M\, London\n\n          \n          \n             \n                          \n          \n        \n  \n\n  \n\nSee All Reviews on Facebook
URL:https://lycaeum.co.uk/event/lycaeum-winter-competition/
CATEGORIES:Student Competitions
ATTACH;FMTTYPE=image/jpeg:https://lycaeum.co.uk/wp-content/uploads/2022/01/pexels-tima-miroshnichenko-6671706-2-e1643377034938.jpg
END:VEVENT
BEGIN:VEVENT
DTSTART;TZID=UTC:20221211T100000
DTEND;TZID=UTC:20221211T170000
DTSTAMP:20260414T205717
CREATED:20220901T083019Z
LAST-MODIFIED:20220901T083019Z
UID:20885-1670752800-1670778000@lycaeum.co.uk
SUMMARY:Lycaeum Winter Concert
DESCRIPTION:As featured on  and many more!\nJoin the celebration!\n\nStudents take it in turns to play in front of a live audience and receive a certificate\nOur fun-filled concerts can be enjoyed by students and parents alike\nAn opportunity for students to meet one another\n\nWhile a rewarding experience\, learning an instrument takes a lot of effort and discipline — it’s important for students to receive recognition for their hard work… and to show off in front of an audience! Our live events occur twice a year\, in the summer and during the festive period. They’re an opportunity for students to play in front of their fellow students and family\, gaining essential experience performing live\, under the guidance of our tutors. \nIndividual performances are mixed with fun group activities\, including games and sing-alongs which help make the event a great time for everyone. At the end of the concert\, students a certificate to acknowledge their performance and their learning to date. \n(Lycaeum is committed to making music accessible to everyone. If the price of the event means your child would be unable to attend\, please contact us and we discuss a price reduction or a waiver). \nBook quickly: limited places per concert!\n\n\n\n	\n		\n			\n			\n\n\n\n	\n		\n			\n			\n\n  \n                \n            				\n            \n'We also participated in the concert recently\, and it was such a delight! All the children seemed to really enjoy performing'\nYuri J\, London\n\n          \n          \n             \n                          \n          \n        \n  \n\n  \n  \n                \n            				\n            \n'This is great value for music learning\, as in addition to the private instrumental lessons you get lots of complimentary online courses and various events'\nKateryna S\, London\n\n          \n          \n             \n                          \n          \n        \n  \n\n  \n\nSee All Reviews on Google\n\n		\n			\n\n	\n\n\n		\n			\n\n	\n\n	\n		\n			\n			\n\n	\n		\n			\n			\n\n  \n                \n            				\n            \n'The concert was absolutely delightful - it was not just a recital but a whole spectacle for and with the audience'\nInna H\, London\n\n          \n          \n             \n                          \n          \n        \n  \n\n  \n  \n                \n            				\n            \n'The children absolutely loved their time learning about and playing instruments and the big red bus is just amazing!'\nYasmin M\, London\n\n          \n          \n             \n                          \n          \n        \n  \n\n  \n\nSee All Reviews on Facebook
URL:https://lycaeum.co.uk/event/lycaeum-winter-concert/
CATEGORIES:End of Year Concerts
ATTACH;FMTTYPE=image/jpeg:https://lycaeum.co.uk/wp-content/uploads/2022/07/18_5_11zon.jpg
END:VEVENT
END:VCALENDAR