BEGIN:VCALENDAR
VERSION:2.0
PRODID:-//Lycaeum Music - ECPv5.3.2.1//NONSGML v1.0//EN
CALSCALE:GREGORIAN
METHOD:PUBLISH
X-WR-CALNAME:Lycaeum Music
X-ORIGINAL-URL:https://lycaeum.co.uk
X-WR-CALDESC:Events for Lycaeum Music
BEGIN:VTIMEZONE
TZID:UTC
BEGIN:STANDARD
TZOFFSETFROM:+0000
TZOFFSETTO:+0000
TZNAME:UTC
DTSTART:20220101T000000
END:STANDARD
END:VTIMEZONE
BEGIN:VEVENT
DTSTART;TZID=UTC:20221002T153000
DTEND;TZID=UTC:20221002T183000
DTSTAMP:20260419T165022
CREATED:20220901T090625Z
LAST-MODIFIED:20220923T091138Z
UID:20780-1664724600-1664735400@lycaeum.co.uk
SUMMARY:MusicOnWheels Workshop: Holland Park 2/10/22
DESCRIPTION:As featured on  and many more!\nPlease note: Our MusicOnWheels Workshops are split into multiple parts: Music Mayhem (15:30-16:30) aimed at learners just starting out\, Improvising Instrumental (16:30-17:30) aimed at intermediate learners. These sessions are for current Lycaeum students.  \nOur afternoon Beginners Workshops (17:30-18:30) are for those completely new to music to try out a different instruments\, who do not currently study with Lycaeum. \nInterested in trying out some instruments for the first time? Or looking to take your learning further?\nCome to one of our MusicOnWheels workshops!\n\nAn opportunity to meet and play alongside fellow learners\nOur knowledgable tutors will guide students\, ensuring they have fun whilst learning valuable skills\nMorning sessions last for 60 minutes\, afternoon workshops for 30 minutes\n\nMusicOnWheels is London’s most unique music teaching project. Lycaeum’s award-winning double-decker bus is a mobile music school full of instruments\, giving newcomers and experienced students alike the opportunity to try out something new. We hold regular events throughout London\, with the aim of bringing the joys of playing an instrument to all of the city’s communities! If you’d like to find out more about MusicOnWheels\, or watch the short documentary\, click here. \nBook quickly: only 10 places per workshop!\n\n\n\n	\n		\n			\n			\n\n\n\n	\n		\n			\n			\n\n  \n                \n            				\n            \n'We also participated in the concert recently\, and it was such a delight! All the children seemed to really enjoy performing'\nYuri J\, London\n\n          \n          \n             \n                          \n          \n        \n  \n\n  \n  \n                \n            				\n            \n'This is great value for music learning\, as in addition to the private instrumental lessons you get lots of complimentary online courses and various events'\nKateryna S\, London\n\n          \n          \n             \n                          \n          \n        \n  \n\n  \n\nSee All Reviews on Google\n\n		\n			\n\n	\n\n\n		\n			\n\n	\n\n	\n		\n			\n			\n\n	\n		\n			\n			\n\n  \n                \n            				\n            \n'The concert was absolutely delightful - it was not just a recital but a whole spectacle for and with the audience'\nInna H\, London\n\n          \n          \n             \n                          \n          \n        \n  \n\n  \n  \n                \n            				\n            \n'The children absolutely loved their time learning about and playing instruments and the big red bus is just amazing!'\nYasmin M\, London\n\n          \n          \n             \n                          \n          \n        \n  \n\n  \n\nSee All Reviews on Facebook
URL:https://lycaeum.co.uk/event/musiconwheels-workshop-holland-park-2-10-22/
CATEGORIES:MusicOnWheels Workshop
ATTACH;FMTTYPE=image/jpeg:https://lycaeum.co.uk/wp-content/uploads/2022/08/r397lQMc_11zon.jpg
ORGANIZER;CN="Lycaeum%20Music":MAILTO:info@lycaeum.co.uk
END:VEVENT
BEGIN:VEVENT
DTSTART;TZID=UTC:20221009T110000
DTEND;TZID=UTC:20221009T160000
DTSTAMP:20260419T165022
CREATED:20220901T090203Z
LAST-MODIFIED:20221003T070631Z
UID:20791-1665313200-1665331200@lycaeum.co.uk
SUMMARY:MusicOnWheels Workshop: Highbury & Islington 9/10/22
DESCRIPTION:As featured on  and many more!\nPlease note: Our MusicOnWheels Workshops are split into multiple parts: Music Mayhem (11:00-12:00) aimed at learners just starting out\, Improvising Instrumental (12:00-13:00) aimed at intermediate learners. These sessions are for current Lycaeum students.  \nOur afternoon Beginners Workshops (14:00-16:00) are for those completely new to music to try out a different instruments\, who do not currently study with Lycaeum. \nFrom 13:45-14:00\, our tutors will host a fund-raising performance in support of Ukraine. \nInterested in trying out some instruments for the first time? Or looking to take your learning further?\nCome to one of our MusicOnWheels workshops!\n\nAn opportunity to meet and play alongside fellow learners\nOur knowledgable tutors will guide students\, ensuring they have fun whilst learning valuable skills\nMorning sessions last for 60 minutes\, afternoon workshops for 30 minutes\n\nMusicOnWheels is London’s most unique music teaching project. Lycaeum’s award-winning double-decker bus is a mobile music school full of instruments\, giving newcomers and experienced students alike the opportunity to try out something new. We hold regular events throughout London\, with the aim of bringing the joys of playing an instrument to all of the city’s communities! If you’d like to find out more about MusicOnWheels\, or watch the short documentary\, click here. \nBook quickly: only 10 places per workshop!\n\nSupporting Ukraine: Charity Performance\n	\n		\n\n	\n	\n\n\n	\n		\n			\n			\n		\n			\n\n	\n\n	\n		\n			\n			\n	\n								\n									\n					\n								\n\n	\n	\n		\n			\n\n	\n\n	\n		\n			\n			\n		\n			\n\n	\n\nWith around 40% of our students learning with Ukraine-based tutors\, Lycaeum is committed to supporting those effected by the ongoing war. To help raise funds which will be used to purchase crucial medical supplies for hospitals in the country\, our tutors will be hosting a short musical performance from 13:45-14:00 at this event. \nTickets: £10 \nTo find out more about Lycaeum’s efforts to support Ukraine\, click here. \n\n\n\n	\n		\n			\n			\n\n\n\n	\n		\n			\n			\n\n  \n                \n            				\n            \n'We also participated in the concert recently\, and it was such a delight! All the children seemed to really enjoy performing'\nYuri J\, London\n\n          \n          \n             \n                          \n          \n        \n  \n\n  \n  \n                \n            				\n            \n'This is great value for music learning\, as in addition to the private instrumental lessons you get lots of complimentary online courses and various events'\nKateryna S\, London\n\n          \n          \n             \n                          \n          \n        \n  \n\n  \n\nSee All Reviews on Google\n\n		\n			\n\n	\n\n\n		\n			\n\n	\n\n	\n		\n			\n			\n\n	\n		\n			\n			\n\n  \n                \n            				\n            \n'The concert was absolutely delightful - it was not just a recital but a whole spectacle for and with the audience'\nInna H\, London\n\n          \n          \n             \n                          \n          \n        \n  \n\n  \n  \n                \n            				\n            \n'The children absolutely loved their time learning about and playing instruments and the big red bus is just amazing!'\nYasmin M\, London\n\n          \n          \n             \n                          \n          \n        \n  \n\n  \n\nSee All Reviews on Facebook
URL:https://lycaeum.co.uk/event/musiconwheels-workshop-highbury-islington-9-10-22/
CATEGORIES:MusicOnWheels Workshop
ATTACH;FMTTYPE=image/jpeg:https://lycaeum.co.uk/wp-content/uploads/2022/08/301183360_490343073096804_4267194886438713922_n_11zon.jpg
ORGANIZER;CN="Lycaeum%20Music":MAILTO:info@lycaeum.co.uk
END:VEVENT
BEGIN:VEVENT
DTSTART;TZID=UTC:20221016T110000
DTEND;TZID=UTC:20221016T160000
DTSTAMP:20260419T165022
CREATED:20220831T212037Z
LAST-MODIFIED:20220901T090920Z
UID:20800-1665918000-1665936000@lycaeum.co.uk
SUMMARY:MusicOnWheels Workshop: North Greenwich 16/10/22
DESCRIPTION:As featured on  and many more!\nPlease note: Our MusicOnWheels Workshops are split into multiple parts: Music Mayhem (11:00-12:00) aimed at learners just starting out\, Improvising Instrumental (12:00-13:00) aimed at intermediate learners. These sessions are for current Lycaeum students.  \nOur afternoon Beginners Workshops (14:00-16:00) are for those completely new to music to try out a different instruments\, who do not currently study with Lycaeum. \nFrom 13:45-14:00\, our tutors will host a fund-raising performance in support of Ukraine. \nInterested in trying out some instruments for the first time? Or looking to take your learning further?\nCome to one of our MusicOnWheels workshops!\n\nAn opportunity to meet and play alongside fellow learners\nOur knowledgable tutors will guide students\, ensuring they have fun whilst learning valuable skills\nMorning sessions last for 60 minutes\, afternoon workshops for 30 minutes\n\nMusicOnWheels is London’s most unique music teaching project. Lycaeum’s award-winning double-decker bus is a mobile music school full of instruments\, giving newcomers and experienced students alike the opportunity to try out something new. We hold regular events throughout London\, with the aim of bringing the joys of playing an instrument to all of the city’s communities! If you’d like to find out more about MusicOnWheels\, or watch the short documentary\, click here. \nBook quickly: only 10 places per workshop!\n\nSupporting Ukraine: Charity Performance\n	\n		\n\n	\n	\n\n\n	\n		\n			\n			\n		\n			\n\n	\n\n	\n		\n			\n			\n	\n								\n									\n					\n								\n\n	\n	\n		\n			\n\n	\n\n	\n		\n			\n			\n		\n			\n\n	\n\nWith around 40% of our students learning with Ukraine-based tutors\, Lycaeum is committed to supporting those effected by the ongoing war. To help raise funds which will be used to purchase crucial medical supplies for hospitals in the country\, our tutors will be hosting a short musical performance from 13:45-14:00 at this event. \nTickets: £10 \nTo find out more about Lycaeum’s efforts to support Ukraine\, click here. \n\n\n\n	\n		\n			\n			\n\n\n\n	\n		\n			\n			\n\n  \n                \n            				\n            \n'We also participated in the concert recently\, and it was such a delight! All the children seemed to really enjoy performing'\nYuri J\, London\n\n          \n          \n             \n                          \n          \n        \n  \n\n  \n  \n                \n            				\n            \n'This is great value for music learning\, as in addition to the private instrumental lessons you get lots of complimentary online courses and various events'\nKateryna S\, London\n\n          \n          \n             \n                          \n          \n        \n  \n\n  \n\nSee All Reviews on Google\n\n		\n			\n\n	\n\n\n		\n			\n\n	\n\n	\n		\n			\n			\n\n	\n		\n			\n			\n\n  \n                \n            				\n            \n'The concert was absolutely delightful - it was not just a recital but a whole spectacle for and with the audience'\nInna H\, London\n\n          \n          \n             \n                          \n          \n        \n  \n\n  \n  \n                \n            				\n            \n'The children absolutely loved their time learning about and playing instruments and the big red bus is just amazing!'\nYasmin M\, London\n\n          \n          \n             \n                          \n          \n        \n  \n\n  \n\nSee All Reviews on Facebook
URL:https://lycaeum.co.uk/event/musiconwheels-workshop-north-greenwich-16-10-22/
CATEGORIES:MusicOnWheels Workshop
ATTACH;FMTTYPE=image/jpeg:https://lycaeum.co.uk/wp-content/uploads/2022/08/compressed-ND-CROPPED-2_11zon.jpg
ORGANIZER;CN="Lycaeum%20Music":MAILTO:info@lycaeum.co.uk
END:VEVENT
BEGIN:VEVENT
DTSTART;TZID=UTC:20221023T110000
DTEND;TZID=UTC:20221023T160000
DTSTAMP:20260419T165022
CREATED:20220901T085915Z
LAST-MODIFIED:20220901T085915Z
UID:20825-1666522800-1666540800@lycaeum.co.uk
SUMMARY:MusicOnWheels Workshop: Queen's Park 23/10/22
DESCRIPTION:As featured on  and many more!\nPlease note: Our MusicOnWheels Workshops are split into multiple parts: Music Mayhem (11:00-12:00) aimed at learners just starting out\, Improvising Instrumental (12:00-13:00) aimed at intermediate learners. These sessions are for current Lycaeum students.  \nOur afternoon Beginners Workshops (14:00-16:00) are for those completely new to music to try out a different instruments\, who do not currently study with Lycaeum. \nFrom 13:45-14:00\, our tutors will host a fund-raising performance in support of Ukraine. \nInterested in trying out some instruments for the first time? Or looking to take your learning further?\nCome to one of our MusicOnWheels workshops!\n\nAn opportunity to meet and play alongside fellow learners\nOur knowledgable tutors will guide students\, ensuring they have fun whilst learning valuable skills\nMorning sessions last for 60 minutes\, afternoon workshops for 30 minutes\n\nMusicOnWheels is London’s most unique music teaching project. Lycaeum’s award-winning double-decker bus is a mobile music school full of instruments\, giving newcomers and experienced students alike the opportunity to try out something new. We hold regular events throughout London\, with the aim of bringing the joys of playing an instrument to all of the city’s communities! If you’d like to find out more about MusicOnWheels\, or watch the short documentary\, click here. \nBook quickly: only 10 places per workshop!\n\nSupporting Ukraine: Charity Performance\n	\n		\n\n	\n	\n\n\n	\n		\n			\n			\n		\n			\n\n	\n\n	\n		\n			\n			\n	\n								\n									\n					\n								\n\n	\n	\n		\n			\n\n	\n\n	\n		\n			\n			\n		\n			\n\n	\n\nWith around 40% of our students learning with Ukraine-based tutors\, Lycaeum is committed to supporting those effected by the ongoing war. To help raise funds which will be used to purchase crucial medical supplies for hospitals in the country\, our tutors will be hosting a short musical performance from 13:45-14:00 at this event. \nTickets: £10 \nTo find out more about Lycaeum’s efforts to support Ukraine\, click here. \n\n\n\n	\n		\n			\n			\n\n\n\n	\n		\n			\n			\n\n  \n                \n            				\n            \n'We also participated in the concert recently\, and it was such a delight! All the children seemed to really enjoy performing'\nYuri J\, London\n\n          \n          \n             \n                          \n          \n        \n  \n\n  \n  \n                \n            				\n            \n'This is great value for music learning\, as in addition to the private instrumental lessons you get lots of complimentary online courses and various events'\nKateryna S\, London\n\n          \n          \n             \n                          \n          \n        \n  \n\n  \n\nSee All Reviews on Google\n\n		\n			\n\n	\n\n\n		\n			\n\n	\n\n	\n		\n			\n			\n\n	\n		\n			\n			\n\n  \n                \n            				\n            \n'The concert was absolutely delightful - it was not just a recital but a whole spectacle for and with the audience'\nInna H\, London\n\n          \n          \n             \n                          \n          \n        \n  \n\n  \n  \n                \n            				\n            \n'The children absolutely loved their time learning about and playing instruments and the big red bus is just amazing!'\nYasmin M\, London\n\n          \n          \n             \n                          \n          \n        \n  \n\n  \n\nSee All Reviews on Facebook
URL:https://lycaeum.co.uk/event/musiconwheels-workshop-queens-park-23-10-22/
CATEGORIES:MusicOnWheels Workshop
ATTACH;FMTTYPE=image/jpeg:https://lycaeum.co.uk/wp-content/uploads/2022/09/301970930_10228510832221979_6778671888464187438_n_11zon-1_11zon.jpg
ORGANIZER;CN="Lycaeum%20Music":MAILTO:info@lycaeum.co.uk
END:VEVENT
END:VCALENDAR