BEGIN:VCALENDAR
VERSION:2.0
PRODID:-//Lycaeum Music - ECPv5.3.2.1//NONSGML v1.0//EN
CALSCALE:GREGORIAN
METHOD:PUBLISH
X-WR-CALNAME:Lycaeum Music
X-ORIGINAL-URL:https://lycaeum.co.uk
X-WR-CALDESC:Events for Lycaeum Music
BEGIN:VTIMEZONE
TZID:UTC
BEGIN:STANDARD
TZOFFSETFROM:+0000
TZOFFSETTO:+0000
TZNAME:UTC
DTSTART:20230101T000000
END:STANDARD
END:VTIMEZONE
BEGIN:VEVENT
DTSTART;TZID=UTC:20230625T100000
DTEND;TZID=UTC:20230625T110000
DTSTAMP:20260420T064159
CREATED:20230107T222508Z
LAST-MODIFIED:20230426T091511Z
UID:21981-1687687200-1687690800@lycaeum.co.uk
SUMMARY:Lycaeum Summer Competition
DESCRIPTION:As featured on  and many more!\nTake part in a fun challenge!\n\nOur competitions are a great incentive for students learning an instrument!\nCompetitions take place online\, making them accessible to all\nPrizes for all students who take part\, with special prizes for exceptional performances\n\nEach learner’s journey is an individual one\, but a friendly competition can be a great incentive for students to push their learning further! Our student concerts are held online\, with student submitting video entries before the event takes place. Every student who takes part in the competition will receive recognition\, with the biggest prizes given to those who deliver stand-out performances. \nEvent time to be announced\nBook quickly: limited places per competition!\n\n\n\n	\n		\n			\n			\n\n\n\n	\n		\n			\n			\n\n  \n                \n            				\n            \n'We also participated in the concert recently\, and it was such a delight! All the children seemed to really enjoy performing'\nYuri J\, London\n\n          \n          \n             \n                          \n          \n        \n  \n\n  \n  \n                \n            				\n            \n'This is great value for music learning\, as in addition to the private instrumental lessons you get lots of complimentary online courses and various events'\nKateryna S\, London\n\n          \n          \n             \n                          \n          \n        \n  \n\n  \n\nSee All Reviews on Google\n\n		\n			\n\n	\n\n\n		\n			\n\n	\n\n	\n		\n			\n			\n\n	\n		\n			\n			\n\n  \n                \n            				\n            \n'The concert was absolutely delightful - it was not just a recital but a whole spectacle for and with the audience'\nInna H\, London\n\n          \n          \n             \n                          \n          \n        \n  \n\n  \n  \n                \n            				\n            \n'The children absolutely loved their time learning about and playing instruments and the big red bus is just amazing!'\nYasmin M\, London\n\n          \n          \n             \n                          \n          \n        \n  \n\n  \n\nSee All Reviews on Facebook
URL:https://lycaeum.co.uk/event/lycaeum-summer-competition/
CATEGORIES:Student Competitions
ATTACH;FMTTYPE=image/jpeg:https://lycaeum.co.uk/wp-content/uploads/2022/01/pexels-tima-miroshnichenko-6671706-2-e1643377034938.jpg
END:VEVENT
END:VCALENDAR