BEGIN:VCALENDAR
VERSION:2.0
PRODID:-//Lycaeum Music - ECPv5.3.2.1//NONSGML v1.0//EN
CALSCALE:GREGORIAN
METHOD:PUBLISH
X-WR-CALNAME:Lycaeum Music
X-ORIGINAL-URL:https://lycaeum.co.uk
X-WR-CALDESC:Events for Lycaeum Music
BEGIN:VTIMEZONE
TZID:UTC
BEGIN:STANDARD
TZOFFSETFROM:+0000
TZOFFSETTO:+0000
TZNAME:UTC
DTSTART:20240101T000000
END:STANDARD
END:VTIMEZONE
BEGIN:VEVENT
DTSTART;VALUE=DATE:20240918
DTEND;VALUE=DATE:20241010
DTSTAMP:20260422T094454
CREATED:20210826T175641Z
LAST-MODIFIED:20251023T034141Z
UID:7734-1726617600-1728518399@lycaeum.co.uk
SUMMARY:Instrument Adventures (5 - 7yo) - Pick your weekly time slot
DESCRIPTION:We are running our Online Group Courses below in partnership with professional DBS- checked Ukraine-based musicians. Lycaeum Music has consistently supported our Ukrainians staff financially\, morally\, and materially\, especially since the beginning of the war in February. Please consider registering below\, as this in turn allows us to keep employing them and offering much needed work in these very dark times. To follow our activities and work in Ukraine since the war started\, please click here. \nInstrument Adventures (5 – 7yo) – week commencing 16 Sep\n\nAs featured on the BBC.\nEach session is 45 minutes.\nYoung children will be introduced to a variety of musical instruments.\nThis is a great class for any children who want to take their first steps in playing music but don’t know where to start.\nRecommended for ages 5-7 years old.\n\nEver wondered if your child might enjoy learning a musical instrument? Instrument Adventures is the perfect class for any children who want to take their first steps in music but don’t know where to start\, or which instrument to choose (yet). We’ll cover different instrument types from keyboards\, to strings\, to percussion. The lessons are filled with puzzles to solve\, actions to copy and laughs to be shared! \nReady to start a new adventure? \nCourse Lesson Dates – week commencing 3 June. \nThis class has multiple slots throughout the week. Your chosen slot will be the same for all 3 lessons. See below for availability. Please double check the start date as some classes will differ. \n“Brilliant courses from a very professional organisation. Everyone we connected with at Lycaeum Music is kind and caring. I highly recommend this company to other parents.” Alla\, London “A fantastic team\, passionate about music\, great engaging lessons\, prompt emails. My son learnt to see music in an exciting way and was able to answer most questions in the last lesson’s quiz by himself.” \nYulia\, London
URL:https://lycaeum.co.uk/event/instrument-adventures-5-7yo-pick-your-weekly-time-slot/
CATEGORIES:5-7yo,Instrument Adventures,On page
ATTACH;FMTTYPE=image/png:https://lycaeum.co.uk/wp-content/uploads/2025/10/3Over3-InstrumentAdventures-R5-7.png
ORGANIZER;CN="Lycaeum%20Music":MAILTO:info@lycaeum.co.uk
END:VEVENT
END:VCALENDAR